BEGIN:VCALENDAR
VERSION:2.0
PRODID:-//Burgess Hill Constitutional Club - ECPv6.15.20//NONSGML v1.0//EN
CALSCALE:GREGORIAN
METHOD:PUBLISH
X-WR-CALNAME:Burgess Hill Constitutional Club
X-ORIGINAL-URL:https://bhconclub.com
X-WR-CALDESC:Events for Burgess Hill Constitutional Club
REFRESH-INTERVAL;VALUE=DURATION:PT1H
X-Robots-Tag:noindex
X-PUBLISHED-TTL:PT1H
BEGIN:VTIMEZONE
TZID:Europe/London
BEGIN:DAYLIGHT
TZOFFSETFROM:+0000
TZOFFSETTO:+0100
TZNAME:BST
DTSTART:20250330T010000
END:DAYLIGHT
BEGIN:STANDARD
TZOFFSETFROM:+0100
TZOFFSETTO:+0000
TZNAME:GMT
DTSTART:20251026T010000
END:STANDARD
BEGIN:DAYLIGHT
TZOFFSETFROM:+0000
TZOFFSETTO:+0100
TZNAME:BST
DTSTART:20260329T010000
END:DAYLIGHT
BEGIN:STANDARD
TZOFFSETFROM:+0100
TZOFFSETTO:+0000
TZNAME:GMT
DTSTART:20261025T010000
END:STANDARD
BEGIN:DAYLIGHT
TZOFFSETFROM:+0000
TZOFFSETTO:+0100
TZNAME:BST
DTSTART:20270328T010000
END:DAYLIGHT
BEGIN:STANDARD
TZOFFSETFROM:+0100
TZOFFSETTO:+0000
TZNAME:GMT
DTSTART:20271031T010000
END:STANDARD
END:VTIMEZONE
BEGIN:VEVENT
DTSTART;TZID=Europe/London:20260516T200000
DTEND;TZID=Europe/London:20260516T230000
DTSTAMP:20260423T200938
CREATED:20260406T164732Z
LAST-MODIFIED:20260406T164738Z
UID:3916-1778961600-1778972400@bhconclub.com
SUMMARY:Connection Funktion
DESCRIPTION:Connection Funktion are bringing some soul to the club on Saturday 16 May – hope see you there!
URL:https://bhconclub.com/event/connection-funktion/
ATTACH;FMTTYPE=application/pdf:https://bhconclub.com/wp-content/uploads/2026/04/Burgess-Hill-Social-Club_Rev-8-Landscape-May-16th.pdf
END:VEVENT
BEGIN:VEVENT
DTSTART;TZID=Europe/London:20260530T200000
DTEND;TZID=Europe/London:20260530T230000
DTSTAMP:20260423T200938
CREATED:20260406T161108Z
LAST-MODIFIED:20260406T163319Z
UID:3900-1780171200-1780182000@bhconclub.com
SUMMARY:Feel Diamond
DESCRIPTION:Date for your diary – a tribute to Neil Diamond on Saturday 30th May.  ‘Feel Diamond’ includes hits such as Sweet Caroline\, Forever in Blue Jeans and I’m a Believer performed by Robbie Mills. Get in early its going to be busy!
URL:https://bhconclub.com/event/no-mustang/
ATTACH;FMTTYPE=image/jpeg:https://bhconclub.com/wp-content/uploads/2026/04/photo-2026-04-06-17-19-12.jpg
END:VEVENT
END:VCALENDAR