BEGIN:VCALENDAR
VERSION:2.0
PRODID:-//Burgess Hill Constitutional Club - ECPv6.15.20//NONSGML v1.0//EN
CALSCALE:GREGORIAN
METHOD:PUBLISH
X-WR-CALNAME:Burgess Hill Constitutional Club
X-ORIGINAL-URL:https://bhconclub.com
X-WR-CALDESC:Events for Burgess Hill Constitutional Club
REFRESH-INTERVAL;VALUE=DURATION:PT1H
X-Robots-Tag:noindex
X-PUBLISHED-TTL:PT1H
BEGIN:VTIMEZONE
TZID:Europe/London
BEGIN:DAYLIGHT
TZOFFSETFROM:+0000
TZOFFSETTO:+0100
TZNAME:BST
DTSTART:20220327T010000
END:DAYLIGHT
BEGIN:STANDARD
TZOFFSETFROM:+0100
TZOFFSETTO:+0000
TZNAME:GMT
DTSTART:20221030T010000
END:STANDARD
BEGIN:DAYLIGHT
TZOFFSETFROM:+0000
TZOFFSETTO:+0100
TZNAME:BST
DTSTART:20230326T010000
END:DAYLIGHT
BEGIN:STANDARD
TZOFFSETFROM:+0100
TZOFFSETTO:+0000
TZNAME:GMT
DTSTART:20231029T010000
END:STANDARD
BEGIN:DAYLIGHT
TZOFFSETFROM:+0000
TZOFFSETTO:+0100
TZNAME:BST
DTSTART:20240331T010000
END:DAYLIGHT
BEGIN:STANDARD
TZOFFSETFROM:+0100
TZOFFSETTO:+0000
TZNAME:GMT
DTSTART:20241027T010000
END:STANDARD
BEGIN:DAYLIGHT
TZOFFSETFROM:+0000
TZOFFSETTO:+0100
TZNAME:BST
DTSTART:20250330T010000
END:DAYLIGHT
BEGIN:STANDARD
TZOFFSETFROM:+0100
TZOFFSETTO:+0000
TZNAME:GMT
DTSTART:20251026T010000
END:STANDARD
BEGIN:DAYLIGHT
TZOFFSETFROM:+0000
TZOFFSETTO:+0100
TZNAME:BST
DTSTART:20260329T010000
END:DAYLIGHT
BEGIN:STANDARD
TZOFFSETFROM:+0100
TZOFFSETTO:+0000
TZNAME:GMT
DTSTART:20261025T010000
END:STANDARD
END:VTIMEZONE
BEGIN:VEVENT
DTSTART;TZID=Europe/London:20251129T200000
DTEND;TZID=Europe/London:20251129T223000
DTSTAMP:20260424T002707
CREATED:20251029T234643Z
LAST-MODIFIED:20251029T234646Z
UID:3371-1764446400-1764455400@bhconclub.com
SUMMARY:The Mersey Cheats
DESCRIPTION:Come along for an evening of Musical Nostalgia with the Mersey Cheats
URL:https://bhconclub.com/event/the-mersey-cheats/
ATTACH;FMTTYPE=image/jpeg:https://bhconclub.com/wp-content/uploads/2025/10/merseycheatsfull-e1761781372965.jpg
END:VEVENT
BEGIN:VEVENT
DTSTART;TZID=Europe/London:20251121T193000
DTEND;TZID=Europe/London:20251121T220000
DTSTAMP:20260424T002707
CREATED:20251029T112307Z
LAST-MODIFIED:20251029T112310Z
UID:3364-1763753400-1763762400@bhconclub.com
SUMMARY:A  Night at the Races (In the Club!)
DESCRIPTION:Place your bets…It’s Back!It’s Race Night at the Con Club.6 Races drawn at random.  You can purchase a horse for £4 now from the Bar \n\n\n\nor bet on the tote for £1 a bet on the evening. \n\n\n\nAll proceeds will go to the Club Charities.
URL:https://bhconclub.com/event/a-night-at-the-races-in-the-club/
ATTACH;FMTTYPE=image/webp:https://bhconclub.com/wp-content/uploads/2025/10/racehorses-with-jockeys.webp
END:VEVENT
BEGIN:VEVENT
DTSTART;TZID=Europe/London:20251109T090000
DTEND;TZID=Europe/London:20251109T180000
DTSTAMP:20260424T002707
CREATED:20251029T110927Z
LAST-MODIFIED:20251107T122804Z
UID:3360-1762678800-1762711200@bhconclub.com
SUMMARY:Remembrance Sunday
DESCRIPTION:We will be remembering our fallen heroes at the Club on Sunday 9 November after the Procession and wreath laying.Please join us and the Royal British Legion and raise a glass to all that have served. \n\n\n\nThere will also be a raffle\, in aid of the Royal British Legion. \n\n\n\nTea\, coffee\, bacon and sausage baps will be on sale from 9am until the parade commences at the club.
URL:https://bhconclub.com/event/remembrance-sunday/
ATTACH;FMTTYPE=image/jpeg:https://bhconclub.com/wp-content/uploads/2025/10/lestweforget.jpg
END:VEVENT
BEGIN:VEVENT
DTSTART;TZID=Europe/London:20251101T200000
DTEND;TZID=Europe/London:20251101T223000
DTSTAMP:20260424T002707
CREATED:20251029T110104Z
LAST-MODIFIED:20251029T110107Z
UID:3356-1762027200-1762036200@bhconclub.com
SUMMARY:Country  & Western Night with Charrise
DESCRIPTION:Come down for a foot stompin Evening of entertainment from Charrise and get your Yeehahs Yeehahing!
URL:https://bhconclub.com/event/country-western-night-with-charrise/
ATTACH;FMTTYPE=image/jpeg:https://bhconclub.com/wp-content/uploads/2025/10/charrise-1-november.jpg
END:VEVENT
BEGIN:VEVENT
DTSTART;TZID=Europe/London:20251031T193000
DTEND;TZID=Europe/London:20251031T213000
DTSTAMP:20260424T002707
CREATED:20251029T104347Z
LAST-MODIFIED:20251029T104508Z
UID:3229-1761939000-1761946200@bhconclub.com
SUMMARY:Connie's Halloween Quiz
DESCRIPTION:It’s Connie’s famous quiz Halloween Edition!Book now at the Bar for teams of up to 6.
URL:https://bhconclub.com/event/my-new-event/
ATTACH;FMTTYPE=image/webp:https://bhconclub.com/wp-content/uploads/2025/06/pumpkin-head.webp
END:VEVENT
BEGIN:VEVENT
DTSTART;TZID=Europe/London:20250712T120000
DTEND;TZID=Europe/London:20250712T190000
DTSTAMP:20260424T002707
CREATED:20250607T224407Z
LAST-MODIFIED:20250626T222215Z
UID:3112-1752321600-1752346800@bhconclub.com
SUMMARY:Cancer Aid
DESCRIPTION:So here we have it. The BIGGEST EVENT of the YEAR.We are proud to present the last ever Party in The Park!  \n\n\n\nIn aid of Stand up to Cancer. This event is being held on the old Legion site.The Club is providing the drinks BHBS are providing the food and you are providing the good vibes! \n\n\n\nDon’t miss this mega event!!
URL:https://bhconclub.com/event/cancer-aid/
CATEGORIES:Band
ATTACH;FMTTYPE=image/jpeg:https://bhconclub.com/wp-content/uploads/2025/06/canceraidfinal.jpg
END:VEVENT
BEGIN:VEVENT
DTSTART;TZID=Europe/London:20231027T200000
DTEND;TZID=Europe/London:20231027T223000
DTSTAMP:20260424T002707
CREATED:20231020T221831Z
LAST-MODIFIED:20231020T221833Z
UID:2599-1698436800-1698445800@bhconclub.com
SUMMARY:Quiz
DESCRIPTION:Quiz at the Con ClubBook your table now!
URL:https://bhconclub.com/event/quiz/
END:VEVENT
END:VCALENDAR