BEGIN:VCALENDAR
VERSION:2.0
PRODID:-//Burgess Hill Constitutional Club - ECPv6.15.20//NONSGML v1.0//EN
CALSCALE:GREGORIAN
METHOD:PUBLISH
X-WR-CALNAME:Burgess Hill Constitutional Club
X-ORIGINAL-URL:https://bhconclub.com
X-WR-CALDESC:Events for Burgess Hill Constitutional Club
REFRESH-INTERVAL;VALUE=DURATION:PT1H
X-Robots-Tag:noindex
X-PUBLISHED-TTL:PT1H
BEGIN:VTIMEZONE
TZID:Europe/London
BEGIN:DAYLIGHT
TZOFFSETFROM:+0000
TZOFFSETTO:+0100
TZNAME:BST
DTSTART:20240331T010000
END:DAYLIGHT
BEGIN:STANDARD
TZOFFSETFROM:+0100
TZOFFSETTO:+0000
TZNAME:GMT
DTSTART:20241027T010000
END:STANDARD
BEGIN:DAYLIGHT
TZOFFSETFROM:+0000
TZOFFSETTO:+0100
TZNAME:BST
DTSTART:20250330T010000
END:DAYLIGHT
BEGIN:STANDARD
TZOFFSETFROM:+0100
TZOFFSETTO:+0000
TZNAME:GMT
DTSTART:20251026T010000
END:STANDARD
BEGIN:DAYLIGHT
TZOFFSETFROM:+0000
TZOFFSETTO:+0100
TZNAME:BST
DTSTART:20260329T010000
END:DAYLIGHT
BEGIN:STANDARD
TZOFFSETFROM:+0100
TZOFFSETTO:+0000
TZNAME:GMT
DTSTART:20261025T010000
END:STANDARD
END:VTIMEZONE
BEGIN:VEVENT
DTSTART;TZID=Europe/London:20251031T193000
DTEND;TZID=Europe/London:20251031T213000
DTSTAMP:20260424T015741
CREATED:20251029T104347Z
LAST-MODIFIED:20251029T104508Z
UID:3229-1761939000-1761946200@bhconclub.com
SUMMARY:Connie's Halloween Quiz
DESCRIPTION:It’s Connie’s famous quiz Halloween Edition!Book now at the Bar for teams of up to 6.
URL:https://bhconclub.com/event/my-new-event/
ATTACH;FMTTYPE=image/webp:https://bhconclub.com/wp-content/uploads/2025/06/pumpkin-head.webp
END:VEVENT
END:VCALENDAR