BEGIN:VCALENDAR
VERSION:2.0
PRODID:-//Burgess Hill Constitutional Club - ECPv6.15.20//NONSGML v1.0//EN
CALSCALE:GREGORIAN
METHOD:PUBLISH
X-WR-CALNAME:Burgess Hill Constitutional Club
X-ORIGINAL-URL:https://bhconclub.com
X-WR-CALDESC:Events for Burgess Hill Constitutional Club
REFRESH-INTERVAL;VALUE=DURATION:PT1H
X-Robots-Tag:noindex
X-PUBLISHED-TTL:PT1H
BEGIN:VTIMEZONE
TZID:Europe/London
BEGIN:DAYLIGHT
TZOFFSETFROM:+0000
TZOFFSETTO:+0100
TZNAME:BST
DTSTART:20240331T010000
END:DAYLIGHT
BEGIN:STANDARD
TZOFFSETFROM:+0100
TZOFFSETTO:+0000
TZNAME:GMT
DTSTART:20241027T010000
END:STANDARD
BEGIN:DAYLIGHT
TZOFFSETFROM:+0000
TZOFFSETTO:+0100
TZNAME:BST
DTSTART:20250330T010000
END:DAYLIGHT
BEGIN:STANDARD
TZOFFSETFROM:+0100
TZOFFSETTO:+0000
TZNAME:GMT
DTSTART:20251026T010000
END:STANDARD
BEGIN:DAYLIGHT
TZOFFSETFROM:+0000
TZOFFSETTO:+0100
TZNAME:BST
DTSTART:20260329T010000
END:DAYLIGHT
BEGIN:STANDARD
TZOFFSETFROM:+0100
TZOFFSETTO:+0000
TZNAME:GMT
DTSTART:20261025T010000
END:STANDARD
BEGIN:DAYLIGHT
TZOFFSETFROM:+0000
TZOFFSETTO:+0100
TZNAME:BST
DTSTART:20270328T010000
END:DAYLIGHT
BEGIN:STANDARD
TZOFFSETFROM:+0100
TZOFFSETTO:+0000
TZNAME:GMT
DTSTART:20271031T010000
END:STANDARD
END:VTIMEZONE
BEGIN:VEVENT
DTSTART;TZID=Europe/London:20251206T200000
DTEND;TZID=Europe/London:20251206T230000
DTSTAMP:20260423T225332
CREATED:20251107T124614Z
LAST-MODIFIED:20251125T181356Z
UID:3414-1765051200-1765062000@bhconclub.com
SUMMARY:Nashville Divas
DESCRIPTION:Dust off your cowboy hat and put on your dancing boots for a night of entertainment at the club.  Featuring songs from many of the greatest country artists plus more!
URL:https://bhconclub.com/event/nashville-divas/
ATTACH;FMTTYPE=image/webp:https://bhconclub.com/wp-content/uploads/2025/11/divas.webp
END:VEVENT
BEGIN:VEVENT
DTSTART;TZID=Europe/London:20251212T193000
DTEND;TZID=Europe/London:20251212T213000
DTSTAMP:20260423T225332
CREATED:20251030T000117Z
LAST-MODIFIED:20251125T205843Z
UID:3375-1765567800-1765575000@bhconclub.com
SUMMARY:Christmas Quiz and Mega Meat Raffle
DESCRIPTION:It’s the Connie’s last quiz of the year…And there’s a mega Meat Raffle to Boot.Please book your table at the Bar. \n\n\n\nWill the Big guy make an appearance?
URL:https://bhconclub.com/event/christmas-quiz-and-mega-meat-raffle/
ATTACH;FMTTYPE=image/jpeg:https://bhconclub.com/wp-content/uploads/2025/10/xmas-quiz.jpg
END:VEVENT
BEGIN:VEVENT
DTSTART;TZID=Europe/London:20251214T153000
DTEND;TZID=Europe/London:20251214T173000
DTSTAMP:20260423T225332
CREATED:20251125T190010Z
LAST-MODIFIED:20251125T190015Z
UID:3572-1765726200-1765733400@bhconclub.com
SUMMARY:Christmas Bingo Afternoon
DESCRIPTION:Get ready for a jolly and fun-filled fundraising Christmas Bingo Afternoon with Burgess Hill Constitutional Club and Burgess Hill Bonfire Society.   \n\n\n\n£6 for 6 games – cash only. \n\n\n\nFull House Prize – £50.
URL:https://bhconclub.com/event/christmas-bingo-afternoon/
ATTACH;FMTTYPE=image/jpeg:https://bhconclub.com/wp-content/uploads/2025/11/xmas-bngo.jpg
END:VEVENT
BEGIN:VEVENT
DTSTART;TZID=Europe/London:20251224T200000
DTEND;TZID=Europe/London:20251224T230000
DTSTAMP:20260423T225332
CREATED:20251107T130851Z
LAST-MODIFIED:20260107T114902Z
UID:3383-1766606400-1766617200@bhconclub.com
SUMMARY:Christmas Eve  Disco
DESCRIPTION:Come along to our Christmas Eve disco with Mick Everest playing timeless classics and some festive favourites.  Expect santa hats and disco elves on the dance floor getting their jingle on. \n\n\n\nWill the Big guy make an appearance?
URL:https://bhconclub.com/event/christmas-eve-disco/
ATTACH;FMTTYPE=image/jpeg:https://bhconclub.com/wp-content/uploads/2025/11/xmas-eve.jpg
END:VEVENT
BEGIN:VEVENT
DTSTART;TZID=Europe/London:20251231T193000
DTEND;TZID=Europe/London:20260101T003000
DTSTAMP:20260423T225332
CREATED:20251107T143804Z
LAST-MODIFIED:20260107T114814Z
UID:3424-1767209400-1767227400@bhconclub.com
SUMMARY:New Years Eve  Disco
DESCRIPTION:Get your dancing shoes on\, add a bit of glitz and glamour and join us for a boogie to bring in the New Year.   \n\n\n\n\n\nOpen from 7.30pm-late\, tickets are £10 per person (non refundable) and include a free drink*\, buffet and music from Gary Taylor.  Tickets on sale Friday 14 November\, only one ticket per member\,  any tickets left by Friday 28 November will be open to guests of members. \n\n\n\n*Free drink – choose from: a pint of lager/bitter/cider\, single spirit with mixer (pump not bottles) or medium glass of wine.
URL:https://bhconclub.com/event/new-years-eve-disco/
ATTACH;FMTTYPE=image/jpeg:https://bhconclub.com/wp-content/uploads/2025/11/ny-eve.jpg
END:VEVENT
END:VCALENDAR