BEGIN:VCALENDAR
VERSION:2.0
PRODID:-//Burgess Hill Constitutional Club - ECPv6.15.20//NONSGML v1.0//EN
CALSCALE:GREGORIAN
METHOD:PUBLISH
X-WR-CALNAME:Burgess Hill Constitutional Club
X-ORIGINAL-URL:https://bhconclub.com
X-WR-CALDESC:Events for Burgess Hill Constitutional Club
REFRESH-INTERVAL;VALUE=DURATION:PT1H
X-Robots-Tag:noindex
X-PUBLISHED-TTL:PT1H
BEGIN:VTIMEZONE
TZID:Europe/London
BEGIN:DAYLIGHT
TZOFFSETFROM:+0000
TZOFFSETTO:+0100
TZNAME:BST
DTSTART:20240331T010000
END:DAYLIGHT
BEGIN:STANDARD
TZOFFSETFROM:+0100
TZOFFSETTO:+0000
TZNAME:GMT
DTSTART:20241027T010000
END:STANDARD
BEGIN:DAYLIGHT
TZOFFSETFROM:+0000
TZOFFSETTO:+0100
TZNAME:BST
DTSTART:20250330T010000
END:DAYLIGHT
BEGIN:STANDARD
TZOFFSETFROM:+0100
TZOFFSETTO:+0000
TZNAME:GMT
DTSTART:20251026T010000
END:STANDARD
BEGIN:DAYLIGHT
TZOFFSETFROM:+0000
TZOFFSETTO:+0100
TZNAME:BST
DTSTART:20260329T010000
END:DAYLIGHT
BEGIN:STANDARD
TZOFFSETFROM:+0100
TZOFFSETTO:+0000
TZNAME:GMT
DTSTART:20261025T010000
END:STANDARD
BEGIN:DAYLIGHT
TZOFFSETFROM:+0000
TZOFFSETTO:+0100
TZNAME:BST
DTSTART:20270328T010000
END:DAYLIGHT
BEGIN:STANDARD
TZOFFSETFROM:+0100
TZOFFSETTO:+0000
TZNAME:GMT
DTSTART:20271031T010000
END:STANDARD
END:VTIMEZONE
BEGIN:VEVENT
DTSTART;TZID=Europe/London:20251231T193000
DTEND;TZID=Europe/London:20260101T003000
DTSTAMP:20260423T212236
CREATED:20251107T143804Z
LAST-MODIFIED:20260107T114814Z
UID:3424-1767209400-1767227400@bhconclub.com
SUMMARY:New Years Eve  Disco
DESCRIPTION:Get your dancing shoes on\, add a bit of glitz and glamour and join us for a boogie to bring in the New Year.   \n\n\n\n\n\nOpen from 7.30pm-late\, tickets are £10 per person (non refundable) and include a free drink*\, buffet and music from Gary Taylor.  Tickets on sale Friday 14 November\, only one ticket per member\,  any tickets left by Friday 28 November will be open to guests of members. \n\n\n\n*Free drink – choose from: a pint of lager/bitter/cider\, single spirit with mixer (pump not bottles) or medium glass of wine.
URL:https://bhconclub.com/event/new-years-eve-disco/
ATTACH;FMTTYPE=image/jpeg:https://bhconclub.com/wp-content/uploads/2025/11/ny-eve.jpg
END:VEVENT
BEGIN:VEVENT
DTSTART;TZID=Europe/London:20260124T000000
DTEND;TZID=Europe/London:20260124T235959
DTSTAMP:20260423T212236
CREATED:20260114T141053Z
LAST-MODIFIED:20260114T141449Z
UID:3801-1769212800-1769299199@bhconclub.com
SUMMARY:Private Function  - Bar Billiards Tournament
DESCRIPTION:Bar Billiards will be taking over the Function Room on Saturday 24th and Sunday 25th January\, Saturday 21st and Sunday 22nd February and Saturday 28th February and Sunday 1st March.   \n\n\n\n \n\n\n\nHot food will be on sale throughout the Bar Billiards weekends.
URL:https://bhconclub.com/event/private-function-bar-billiards-tournament/
ATTACH;FMTTYPE=image/webp:https://bhconclub.com/wp-content/uploads/2026/01/697b68f8-d15e-48fa-ba39-afc1330eb5dd.webp
END:VEVENT
END:VCALENDAR