BEGIN:VCALENDAR
VERSION:2.0
PRODID:-//Burgess Hill Constitutional Club - ECPv6.15.20//NONSGML v1.0//EN
CALSCALE:GREGORIAN
METHOD:PUBLISH
X-WR-CALNAME:Burgess Hill Constitutional Club
X-ORIGINAL-URL:https://bhconclub.com
X-WR-CALDESC:Events for Burgess Hill Constitutional Club
REFRESH-INTERVAL;VALUE=DURATION:PT1H
X-Robots-Tag:noindex
X-PUBLISHED-TTL:PT1H
BEGIN:VTIMEZONE
TZID:Europe/London
BEGIN:DAYLIGHT
TZOFFSETFROM:+0000
TZOFFSETTO:+0100
TZNAME:BST
DTSTART:20250330T010000
END:DAYLIGHT
BEGIN:STANDARD
TZOFFSETFROM:+0100
TZOFFSETTO:+0000
TZNAME:GMT
DTSTART:20251026T010000
END:STANDARD
BEGIN:DAYLIGHT
TZOFFSETFROM:+0000
TZOFFSETTO:+0100
TZNAME:BST
DTSTART:20260329T010000
END:DAYLIGHT
BEGIN:STANDARD
TZOFFSETFROM:+0100
TZOFFSETTO:+0000
TZNAME:GMT
DTSTART:20261025T010000
END:STANDARD
BEGIN:DAYLIGHT
TZOFFSETFROM:+0000
TZOFFSETTO:+0100
TZNAME:BST
DTSTART:20270328T010000
END:DAYLIGHT
BEGIN:STANDARD
TZOFFSETFROM:+0100
TZOFFSETTO:+0000
TZNAME:GMT
DTSTART:20271031T010000
END:STANDARD
END:VTIMEZONE
BEGIN:VEVENT
DTSTART;TZID=Europe/London:20260425T200000
DTEND;TZID=Europe/London:20260425T230000
DTSTAMP:20260423T164715
CREATED:20260406T163742Z
LAST-MODIFIED:20260406T163748Z
UID:3913-1777147200-1777158000@bhconclub.com
SUMMARY:No Mustang
DESCRIPTION:One of our favourites – No Mustang – will be back in the club on Saturday 25 April – get those dancing shoes on!
URL:https://bhconclub.com/event/no-mustang-2/
ATTACH;FMTTYPE=image/jpeg:https://bhconclub.com/wp-content/uploads/2026/04/no-mustang.jpg
END:VEVENT
END:VCALENDAR